BEGIN:VCALENDAR
VERSION:2.0
METHOD:PUBLISH
PRODID:-//Accessible Web Design//My Calendar//http://www.joedolson.com//v//EN';
BEGIN:VEVENT
UID:110614-60323
LOCATION:Eltern-Kind-Zentrum Müncheberg Ernst-Thälmann-Straße 83  Müncheberg  15374
SUMMARY:Geschwisterdiplom
DTSTAMP:20261112T153000
ORGANIZER;CN=maerkisch-oderland:MAILTO:birgit.triebel@drk-mos.de
DTSTART:20261112T153000
DTEND:20261112T170000
CATEGORIES:Elternwissen
URL;VALUE=URI:https://www.netzwerk-gesunde-kinder.de/termin/geschwisterdiplom/?mc_id=110614
DESCRIPTION:Ein Baby ist unterwegs - ein freudiges Ereignis. Für die werdenden Geschwister kaum vorstellbar und begreifbar. Frau Eimler (Kinderkrankenschwester im Vivantes Klinikum Kaulsdorf) vermittelt spielerisch Schwangerschaft, Geburt und die Zeit mit Baby. Die zukünftigen Schwestern /Brüder erfahren, wie sie zu wichtigen Helfern im Familienleben mit Baby werden können. Gemeinsam wird an mitgebrachten Puppen/Teddys das Berühren,&hellip;
END:VEVENT
END:VCALENDAR