BEGIN:VCALENDAR
VERSION:2.0
METHOD:PUBLISH
PRODID:-//Accessible Web Design//My Calendar//http://www.joedolson.com//v//EN';
BEGIN:VEVENT
UID:110172-59881
LOCATION:Netzwerk Gesunde Kinder Barnim Nord   Eberswalde  16225
SUMMARY:Schulungstag für Familienpat*innen
DTSTAMP:20260321T090000
ORGANIZER;CN=maerkisch-oderland:MAILTO:birgit.triebel@drk-mos.de
DTSTART:20260321T090000
DTEND:20260321T170000
CATEGORIES:Schulungen für Familienpat/innen
URL;VALUE=URI:https://www.netzwerk-gesunde-kinder.de/termin/schulungstag-fuer-familienpatinnen/?mc_id=110172
DESCRIPTION:Gut vorbereitet ins Ehrenamt. 3 Tage, an 3 Orten mit vielen Themen Die Regionalnetzwerke Barnim Nord, Barnim Süd und Märkisch-Oderland laden zu einer gemeinsamen Patenschulung ein. Unter der Leitung von Fachkräften des jeweiligen Landkreises tauchen Sie inhaltlich in Themen der ersten 3 Lebensjahre ein. Inhalte am Schulungstag 3: Kindeswohl und Kinderschutz Unterstützung der Familien Ernährung&hellip;
END:VEVENT
END:VCALENDAR