BEGIN:VCALENDAR
VERSION:2.0
METHOD:PUBLISH
PRODID:-//Accessible Web Design//My Calendar//http://www.joedolson.com//v//EN';
BEGIN:VEVENT
UID:110076-59785
LOCATION:Pommernmühle Ückermünde Liepgartener Straße 88 a  Ueckermünde  17373
SUMMARY:Schwangerenschwimmen
DTSTAMP:20260407T153000
ORGANIZER;CN=uckermark-west:MAILTO:Peggy.Redlich-Pahl@sana-kt.de
DTSTART:20260407T153000
DTEND:20260407T163000
CATEGORIES:Elternwissen
URL;VALUE=URI:https://www.netzwerk-gesunde-kinder.de/termin/schwangerenschwimmen-4/?mc_id=110076
DESCRIPTION:Für alle Schwangeren findet unter Anleitung einer Hebamme und einer Kinderkrankenschwester unser Schwangerenschimmen in der Pommernmühle Ueckermünde statt. Kosten: Unkostenbeitrag 5,- €Anmeldeinformationen: Entbindungsstation Asklepios Pasewalk Tel.: 03973 23 14 47
END:VEVENT
END:VCALENDAR