BEGIN:VCALENDAR
VERSION:2.0
METHOD:PUBLISH
PRODID:-//Accessible Web Design//My Calendar//http://www.joedolson.com//v//EN';
BEGIN:VEVENT
UID:110019-59728
LOCATION:Familienzentrum Sperenberg Goethestr.2, Sperenberg  Familienzentrum Sperenberg
SUMMARY:Heute noch ein Kita - morgen schon ein Schulkind 
DTSTAMP:20260604T143000
ORGANIZER;CN=teltow-flaeming:MAILTO:annika.seiler@diakonissenhaus.de
DTSTART:20260604T143000
DTEND:20260604T160000
CATEGORIES:Elternwissen
URL;VALUE=URI:https://www.netzwerk-gesunde-kinder.de/termin/heute-noch-ein-kita-morgen-schon-ein-schulkind-2/?mc_id=110019
DESCRIPTION:Hier nehmen wir die emotionale Sichtweise des Kindes und der Eltern in den Blick. Der Wechsel vom Kita- zum Schulkind bedeutet "loslassen" von Vertrautem, hin zum "öffnen" von Neuem. Dies kann Verunsicherungen mit sich bringen. Wie kann der Wechsel trotzdem gut gelingen? Kosten: kostenfreiAnmeldeinformationen: netzwerkgesundekinder-tf@diakonissenhaus.de 03378/200782 oder 03372/440534
END:VEVENT
END:VCALENDAR