BEGIN:VCALENDAR
VERSION:2.0
METHOD:PUBLISH
PRODID:-//Accessible Web Design//My Calendar//http://www.joedolson.com//v//EN';
BEGIN:VEVENT
UID:109977-59686
LOCATION:Eltern-Kind-Zentrum Mitte (ehemals Nord) Paul-Feldner-Straße 6,  Frankfurt (Oder)  15230
SUMMARY:Zähnchentreff
DTSTAMP:20260901T100000
ORGANIZER;CN=frankfurt-oder:MAILTO:k.koepke@caritas-brandenburg.de
DTSTART:20260901T100000
DTEND:20260901T120000
CATEGORIES:Elternwissen
URL;VALUE=URI:https://www.netzwerk-gesunde-kinder.de/termin/zaehnchentreff-4/?mc_id=109977
DESCRIPTION:Der Zahnärztliche Dienst erklärt kurz und knapp, worauf es bei der Mund-und Zahnpflege im Säuglings-und Kleinkindalter ankommt. Kosten: keine Anmeldeinformationen: Anmeldung gerne unter k.koepke@caritas-brandenburg.de.
END:VEVENT
END:VCALENDAR