BEGIN:VCALENDAR
VERSION:2.0
METHOD:PUBLISH
PRODID:-//Accessible Web Design//My Calendar//http://www.joedolson.com//v//EN';
BEGIN:VEVENT
UID:109855-59564
LOCATION:Online   Online
SUMMARY:Nachhaltiger Familienalltag  
DTSTAMP:20260429T183000
ORGANIZER;CN=teltow-flaeming:MAILTO:annika.seiler@diakonissenhaus.de
DTSTART:20260429T183000
DTEND:20260429T200000
CATEGORIES:Elternwissen
URL;VALUE=URI:https://www.netzwerk-gesunde-kinder.de/termin/nachhaltiger-familienalltag-3/?mc_id=109855
DESCRIPTION:Wie lassen sich Nachhaltigkeit und Umweltbewusstsein gut in den Familienalltag integrieren? Kosten: kostenfreiAnmeldeinformationen: netzwerkgesundekinder-tf@diakonissenhaus.de
END:VEVENT
END:VCALENDAR