BEGIN:VCALENDAR
VERSION:2.0
METHOD:PUBLISH
PRODID:-//Accessible Web Design//My Calendar//http://www.joedolson.com//v//EN';
BEGIN:VEVENT
UID:109470-59179
LOCATION:Eltern-Kind-Zentrum Mitte (ehemals Nord) Paul-Feldner-Straße 6,  Frankfurt (Oder)  15230
SUMMARY:Gemeinsam lecker kochen
DTSTAMP:20260417T093000
ORGANIZER;CN=frankfurt-oder:MAILTO:k.koepke@caritas-brandenburg.de
DTSTART:20260417T093000
DTEND:20260417T113000
CATEGORIES:Familien-Gruppen, -Treffs &amp; -Kurse
URL;VALUE=URI:https://www.netzwerk-gesunde-kinder.de/termin/gemeinsam-lecker-kochen-7/?mc_id=109470
DESCRIPTION:„Gemeinsam lecker kochen“ richtet sich an Familien mit Babys und Kleinkindern von 0 bis 1,5 Jahren, die Lust haben in Gesellschaft die Welt des Essens zu erkunden. Wir kochen alle zwei Wochen freitags (außer in den Schulferien) gemeinsam einfache Mahlzeiten für die ganze Familie und besprechen Themen vom B(r)eikoststart zur Familienkost. Die Teilnahme ist kostenfrei&hellip;
END:VEVENT
END:VCALENDAR