BEGIN:VCALENDAR
VERSION:2.0
METHOD:PUBLISH
PRODID:-//Accessible Web Design//My Calendar//http://www.joedolson.com//v//EN';
BEGIN:VEVENT
UID:107203-56912
LOCATION:Netzwerk Gesunde Kinder Barnim Süd Berliner Str. 26  Bernau  16321
SUMMARY:ElternZeitCafé/Krabbelgruppe mit der Kinderärztin Fr. Dr. Barbara Korinth des Immanuel Klinikums Bernau
DTSTAMP:20261020T100000
ORGANIZER;CN=barnim-sued:MAILTO:nicole.peter@immanuelalbertinen.de
DTSTART:20261020T100000
DTEND:20261020T120000
CATEGORIES:Familien-Gruppen, -Treffs &amp; -Kurse
URL;VALUE=URI:https://www.netzwerk-gesunde-kinder.de/termin/elternzeitcafe-krabbelgruppe-mit-gastreferent-kinderaerztin-frau-dr-barbara-korinth-12/?mc_id=107203
DESCRIPTION:Gesundheitsberatung immer dabei ein Kinderarzt des Immanuel Klinikums Bernau Kosten: 3,00€ Dankes Taler für die Spendenbox.Anmeldeinformationen: Mit Anmeldung unter: manuela.ladewig@immanuelalbertinen.de
END:VEVENT
END:VCALENDAR