BEGIN:VCALENDAR
VERSION:2.0
METHOD:PUBLISH
PRODID:-//Accessible Web Design//My Calendar//http://www.joedolson.com//v//EN';
BEGIN:VEVENT
UID:111231-60940
LOCATION:DRK Beeskow Rouanetstraße 10,  Beeskow  15848
SUMMARY:Trageberatung Beeskow
DTSTAMP:20260512T100000
ORGANIZER;CN=oder-spree:MAILTO:jenny.siebke@drk-mohs.de
DTSTART:20260512T100000
DTEND:20260512T110000
CATEGORIES:Elternwissen
URL;VALUE=URI:https://www.netzwerk-gesunde-kinder.de/termin/trageberatung-beeskow-7/?mc_id=111231
DESCRIPTION:In der Trageberatung erhaltet ihr auf eure Bedürfnisse abgestimmtes, theoretisches und praktisches Wissen über das Tragen von Babys und Kleinkindern. Ihr habt die Möglichkeit verschiedene Tragen und Tragetücher auszuprobieren. Bei Bedarf ist für Netzwerkfamilien auch ein Verleih von Tragen möglich. Kosten: keineAnmeldeinformationen: Weitere individuelle Termine können Sie per Mail anfragen: anja.kess@drk-mohs.de
END:VEVENT
END:VCALENDAR