BEGIN:VCALENDAR
VERSION:2.0
METHOD:PUBLISH
PRODID:-//Accessible Web Design//My Calendar//http://www.joedolson.com//v//EN';
BEGIN:VEVENT
UID:111211-60920
LOCATION:MGH Lauchhammer Alte Gartenstraße 24  Lauchhammer  01979
SUMMARY:fitdankbaby PRE
DTSTAMP:20260504T105000
ORGANIZER;CN=niederlausitz:MAILTO:skn.ngk@sana.de
DTSTART:20260504T105000
DTEND:20260504T115000
CATEGORIES:Familien-Gruppen, -Treffs &amp; -Kurse
URL;VALUE=URI:https://www.netzwerk-gesunde-kinder.de/termin/fitdankbaby-pre-2/?mc_id=111211
DESCRIPTION:fitdankbaby® PRE ist ein auf Schwangere ab der 14. Schwangerschaftswoche perfekt angepasstes, funktionelles Koordinations- und Muskeltraining unter Anleitung einer qualifizierten Kursleitung in entspannter Atmosphäre. In dieser Stunde Schwangerschaftsgymnastik erfährst du, wie du dich fit für den stressigen Alltag mit Baby machst und wie du frühzeitig Beschwerden vorbeugen kannst. Ziele des Kurses: *Verbesserte Haltung und Beweglichkeit&hellip;
END:VEVENT
END:VCALENDAR