BEGIN:VCALENDAR
VERSION:2.0
METHOD:PUBLISH
PRODID:-//Accessible Web Design//My Calendar//http://www.joedolson.com//v//EN';
BEGIN:VEVENT
UID:111209-60918
LOCATION:Netzwerk Gesunde Kinder Uckermark Ost /Standort Schwedt   Schwedt/ Oder  16303
SUMMARY:Gesunde Ernährung für Familien in Schwedt und Umgebung
DTSTAMP:20260603T140000
ORGANIZER;CN=uckermark-ost:MAILTO:ngk-ost@abw-ang.de
DTSTART:20260603T140000
DTEND:20260603T160000
CATEGORIES:Elternwissen
URL;VALUE=URI:https://www.netzwerk-gesunde-kinder.de/termin/gesunde-ernaehrung-fuer-familien-in-schwedt-und-umgebung/?mc_id=111209
DESCRIPTION:Was tut meiner Familie gut? Wie gelingt gesunde Ernährung im Alltag – unkompliziert, bezahlbar und familiennah? Das Netzwerk Gesunde Kinder lädt einmal im Quartal zu einem interaktiven Workshop rund um das Thema gesunde Ernährung für Familien ein. In entspannter Atmosphäre tauschen wir uns aus, geben praktische Impulse und alltagstaugliche Tipps – vom gemeinsamen Essen bis&hellip;
END:VEVENT
END:VCALENDAR