BEGIN:VCALENDAR
VERSION:2.0
METHOD:PUBLISH
PRODID:-//Accessible Web Design//My Calendar//http://www.joedolson.com//v//EN';
BEGIN:VEVENT
UID:111208-60917
LOCATION:Naturkindergarten Mauz und Hoppel   Angermünde  16278
SUMMARY:"Tschüss, Schnuller"
DTSTAMP:20260617T151500
ORGANIZER;CN=uckermark-ost:MAILTO:ngk-ost@abw-ang.de
DTSTART:20260617T151500
DTEND:20260617T164500
CATEGORIES:Elternwissen
URL;VALUE=URI:https://www.netzwerk-gesunde-kinder.de/termin/tschuess-schnuller/?mc_id=111208
DESCRIPTION:Liebe Eltern, der Nuckel ist für viele Kinder ein treuer Begleiter, Tröster und Einschlafhelfer. Doch irgendwann kommt der Moment, in dem es heißt: Abschied nehmen – für die Zahngesundheit und die Sprachentwicklung ein wichtiger Schritt. Der Weg zur „Nuckelfreiheit“ muss nicht stressig sein. Wir laden Sie herzlich zu unserem Informations- und Austauschnachmittag ein. Wir freuen&hellip;
END:VEVENT
END:VCALENDAR