BEGIN:VCALENDAR
VERSION:2.0
METHOD:PUBLISH
PRODID:-//Accessible Web Design//My Calendar//http://www.joedolson.com//v//EN';
BEGIN:VEVENT
UID:111204-60913
LOCATION:Netzwerk Gesunde Kinder Uckermark Ost /Standort Schwedt   Schwedt/ Oder  16303
SUMMARY:Selbstfürsorge und Elternsein
DTSTAMP:20260512T140000
ORGANIZER;CN=uckermark-ost:MAILTO:ngk-ost@abw-ang.de
DTSTART:20260512T140000
DTEND:20260512T160000
CATEGORIES:Elternwissen
URL;VALUE=URI:https://www.netzwerk-gesunde-kinder.de/termin/selbstfuersorge-und-elternsein/?mc_id=111204
DESCRIPTION:Elternsein bedeutet viel Geben und oft bleibt ihr selbst dabei auf der Strecke. In diesem Workshop laden wir euch ein, innezuhalten und den Blick auf euch und eure Bedürfnisse zu richten. Gemeinsam sprechen wir darüber, wie Selbstfürsorge im Familienalltag gelingen kann, ohne zusätzlichen Druck zu erzeugen. Es gibt Raum für Austausch, kleine Impulse und alltagstaugliche&hellip;
END:VEVENT
END:VCALENDAR