BEGIN:VCALENDAR
VERSION:2.0
METHOD:PUBLISH
PRODID:-//Accessible Web Design//My Calendar//http://www.joedolson.com//v//EN';
BEGIN:VEVENT
UID:111203-60912
LOCATION:AWO Regine-Hildebrandt-Haus Thomas-Müntzer-Straße 11  Lübbenau/ Spreewald  03222
SUMMARY:Familien-Gesundheits-Präventionstag
DTSTAMP:20260701T150000
ORGANIZER;CN=oberspreewald-lausitz-nord:MAILTO:gesunde-kinder@awo-bb-sued.de
DTSTART:20260701T150000
DTEND:20260701T180000
CATEGORIES:Sonstige Veranstaltungen
URL;VALUE=URI:https://www.netzwerk-gesunde-kinder.de/termin/familien-gesundheits-praeventionstag/?mc_id=111203
DESCRIPTION:Das Netzwerk Gesunde Kinder OSL Nord und das AWO Zentrum Ambulante Hilfen laden herzlich zum Familien-Gesundheits-Präventionstag auf dem Gelände des Regine Hildebrandt Haus in Lübbenau ein. Für Groß &amp; Klein gibt es viel zu entdecken - Wir freuen uns auf euren Besuch!
END:VEVENT
END:VCALENDAR