BEGIN:VCALENDAR
VERSION:2.0
METHOD:PUBLISH
PRODID:-//Accessible Web Design//My Calendar//http://www.joedolson.com//v//EN';
BEGIN:VEVENT
UID:111197-60906
LOCATION:Geschäftstelle PGW Gerichtsstraße 1  Cottbus  03046
SUMMARY:offene Wollwerkstatt
DTSTAMP:20260511T140000
ORGANIZER;CN=cottbus:MAILTO:netzwerk.cottbus@pagewe.de
DTSTART:20260511T140000
DTEND:20260511T170000
CATEGORIES:Sonstige Veranstaltungen
URL;VALUE=URI:https://www.netzwerk-gesunde-kinder.de/termin/offene-wollwerkstatt-4/?mc_id=111197
DESCRIPTION:Stricken und Häkeln lernen für alle, Profis fertigen Geschenke in Handarbeit Kosten: keine Anmeldeinformationen: unter 015128036994
END:VEVENT
END:VCALENDAR