BEGIN:VCALENDAR
VERSION:2.0
METHOD:PUBLISH
PRODID:-//Accessible Web Design//My Calendar//http://www.joedolson.com//v//EN';
BEGIN:VEVENT
UID:111181-60890
LOCATION:AWO Regine-Hildebrandt-Haus Thomas-Müntzer-Straße 11  Lübbenau/ Spreewald  03222
SUMMARY:Heil- und Hausmittel
DTSTAMP:20260521T150000
ORGANIZER;CN=oberspreewald-lausitz-nord:MAILTO:gesunde-kinder@awo-bb-sued.de
DTSTART:20260521T150000
DTEND:20260521T170000
CATEGORIES:Elternwissen
URL;VALUE=URI:https://www.netzwerk-gesunde-kinder.de/termin/heil-und-hausmittel/?mc_id=111181
DESCRIPTION:Wer kennt es nicht? Husten, Schnupfen, Bauchweh,... Viele kleine Infekte und “Wehwehchen” lassen sich wunderbar mit natürlichen Heil– und Hausmitteln behandeln. Unsere Spreewaldhebamme Edith Ballenthin lädt Euch dazu ein, diese kennenzulernen und gemeinsam herzustellen. Eine Kinderbetreuung vor Ort ist nicht vorgesehen; selbstverständlich dürft ihr eure Kinder aber selbst “beaufsichtigen”. Referenten: Edith BallenthinKosten: kostenlosAnmeldeinformationen: Um Anmeldung&hellip;
END:VEVENT
END:VCALENDAR