BEGIN:VCALENDAR
VERSION:2.0
METHOD:PUBLISH
PRODID:-//Accessible Web Design//My Calendar//http://www.joedolson.com//v//EN';
BEGIN:VEVENT
UID:111120-60829
LOCATION:Geschäftsstelle PGW Gerichtsstraße 1  Cottbus  03046
SUMMARY:Begegnungsraum
DTSTAMP:20260508T093000
ORGANIZER;CN=cottbus:MAILTO:netzwerk.cottbus@pagewe.de
DTSTART:20260508T093000
DTEND:20260508T113000
CATEGORIES:Familien-Gruppen, -Treffs &amp; -Kurse
URL;VALUE=URI:https://www.netzwerk-gesunde-kinder.de/termin/begegnungsraum-7/?mc_id=111120
DESCRIPTION:"Krabbelgruppe" mal ganz anders, offen für Familien mit Kindern von 0- 3 Jahre und schwangere, Paten und Interessierte; Anmeldung erforderlich! Referenten: Manuela Zapel, Lukas SchöneKosten: keineAnmeldeinformationen: ja
END:VEVENT
END:VCALENDAR