BEGIN:VCALENDAR
VERSION:2.0
METHOD:PUBLISH
PRODID:-//Accessible Web Design//My Calendar//http://www.joedolson.com//v//EN';
BEGIN:VEVENT
UID:111110-60819
LOCATION:Klinikum Niederlausitz, Lauchhammer Friedensstraße 18  Lauchhammer  01979
SUMMARY:BabyZeit 
DTSTAMP:20260429T100000
ORGANIZER;CN=niederlausitz:MAILTO:skn.ngk@sana.de
DTSTART:20260429T100000
DTEND:20260429T113000
CATEGORIES:Familien-Gruppen, -Treffs &amp; -Kurse
URL;VALUE=URI:https://www.netzwerk-gesunde-kinder.de/termin/babyzeit/?mc_id=111110
DESCRIPTION:BabyZeit bedeutet, eine kleine Auszeit vom Alltag für Dich und dein Baby. Spielen, erkunden, bewegen und natürlich ein vertrauensvoller Austausch unter Eltern, soll im Mittelpunkt des Eltern-Kind-Kurses stehen. Referenten: Katharina LutzKosten: kostenfreiAnmeldeinformationen: T: 03573 751037 M: skn.ngk@sana.de
END:VEVENT
END:VCALENDAR