BEGIN:VCALENDAR
VERSION:2.0
METHOD:PUBLISH
PRODID:-//Accessible Web Design//My Calendar//http://www.joedolson.com//v//EN';
BEGIN:VEVENT
UID:111109-60818
LOCATION:GLEIS 3 - Kulturzentrum Lübbenau  Güterbahnhofstraße 57  Lübbenau/ Spreewald  03222
SUMMARY:Familien-Flohmarkt zum BahnhofsviertelFestival
DTSTAMP:20260605T130000
ORGANIZER;CN=oberspreewald-lausitz-nord:MAILTO:gesunde-kinder@awo-bb-sued.de
DTSTART:20260605T130000
DTEND:20260605T190000
CATEGORIES:Sonstige Veranstaltungen
URL;VALUE=URI:https://www.netzwerk-gesunde-kinder.de/termin/familien-flohmarkt-zum-bahnhofsviertelfestival/?mc_id=111109
DESCRIPTION:Wir laden euch herzlich zu einem bunten Nachmittag für die ganze Familie ein. Stöbert in entspannter Atmosphäre durch gut erhaltene Kleidung, Spielzeug, Bücher und viele kleine Schätze. Kommt vorbei, bringt Freunde und Familie mit und genießt einen schönen Nachmittag mit uns. Für unsere kleinen Besucher haben wir auch die ein oder andere kleine Überraschung. Selbstverständlich&hellip;
END:VEVENT
END:VCALENDAR