BEGIN:VCALENDAR
VERSION:2.0
METHOD:PUBLISH
PRODID:-//Accessible Web Design//My Calendar//http://www.joedolson.com//v//EN';
BEGIN:VEVENT
UID:111107-60816
LOCATION:Familienzentrum Eisenhüttenstadt Fröbelring 1  Eisenhüttenstadt  15890
SUMMARY:Lotsenstammtisch
DTSTAMP:20260928T150000
ORGANIZER;CN=oder-spree:MAILTO:jenny.siebke@drk-mohs.de
DTSTART:20260928T150000
DTEND:20260928T170000
CATEGORIES:Stammtisch für Familienpat/innen
URL;VALUE=URI:https://www.netzwerk-gesunde-kinder.de/termin/lotsenstammtisch-2/?mc_id=111107
DESCRIPTION:Ein Stammtisch für bereits aktive Familienlots*innen. Nähere Informationen sind in der Einladung zu finden.
END:VEVENT
END:VCALENDAR