BEGIN:VCALENDAR
VERSION:2.0
METHOD:PUBLISH
PRODID:-//Accessible Web Design//My Calendar//http://www.joedolson.com//v//EN';
BEGIN:VEVENT
UID:111097-60806
LOCATION:Bibliothek Putlitz Gebhard-zu-Putlitz-Platz 1  Putlitz  16949
SUMMARY:Krabbelgruppe
DTSTAMP:20260612T093000
ORGANIZER;CN=prignitz:MAILTO:y.maltz@krankenhaus-prignitz.de
DTSTART:20260612T093000
DTEND:20260612T120000
CATEGORIES:Familien-Gruppen, -Treffs &amp; -Kurse
URL;VALUE=URI:https://www.netzwerk-gesunde-kinder.de/termin/krabbelgruppe-17/?mc_id=111097
DESCRIPTION:In gemütlicher Atmosphäre treffen wir uns jeden Freitag. Wir tauschen uns aus und es gibt auch immer wieder mal einen kleinen Input zu den verschiedensten Themen rund um die ersten drei Lebensjahre des Kindes. Kosten: kostenlosAnmeldeinformationen: ohne
END:VEVENT
END:VCALENDAR