BEGIN:VCALENDAR
VERSION:2.0
METHOD:PUBLISH
PRODID:-//Accessible Web Design//My Calendar//http://www.joedolson.com//v//EN';
BEGIN:VEVENT
UID:111078-60787
LOCATION:Netzwerktreff im DRK Prötzeler Chaussee 4a  Strausberg  15344
SUMMARY:ma(h)lZeit - intuitives Essverhalten von Kleinkindern
DTSTAMP:20260901T153000
ORGANIZER;CN=maerkisch-oderland:MAILTO:birgit.triebel@drk-mos.de
DTSTART:20260901T153000
DTEND:20260901T173000
CATEGORIES:Elternwissen
URL;VALUE=URI:https://www.netzwerk-gesunde-kinder.de/termin/mahlzeit-intuitives-essverhalten-von-kleinkindern/?mc_id=111078
DESCRIPTION:Jedes Kind isst anders. Zuweilen bereitet das kindliche Essverhalten Eltern Sorgen hinsichtlich einer bedarfsgerechten Ernährung ihres Kindes. Über eine gute Gestaltung der Mahlzeiten als Essensangebot und mit Platz für die Individualität des Kindes können Eltern ihr Kind auf dem Weg zu einem später selbständigen ausgewogenem Essverhalten begleiten. Unter der Leitung von Mandy Keil, Ernährungstherapeutin, tauchen&hellip;
END:VEVENT
END:VCALENDAR