BEGIN:VCALENDAR
VERSION:2.0
METHOD:PUBLISH
PRODID:-//Accessible Web Design//My Calendar//http://www.joedolson.com//v//EN';
BEGIN:VEVENT
UID:111077-60786
LOCATION:Wunderbar Elternzeit   Schwedt/Oder  16303
SUMMARY:Wunderbar Elternzeit
DTSTAMP:20260521T150000
ORGANIZER;CN=uckermark-ost:MAILTO:ngk-ost@abw-ang.de
DTSTART:20260521T150000
DTEND:20260521T163000
CATEGORIES:Familien-Gruppen, -Treffs &amp; -Kurse
URL;VALUE=URI:https://www.netzwerk-gesunde-kinder.de/termin/wunderbar-elternzeit/?mc_id=111077
DESCRIPTION:Im Restaurant &amp; Café Wunderbar könnt ihr euch über die schönen, aber auch herausfordernden Momente des Familienalltags austauschen. Kinder sind selbstverständlich willkommen. Kosten: Die teilnahme ist kostenlos. Speisen und getränke können vor Ort erworben werden.Anmeldeinformationen: direkt in der Wunderbar oder per Mail ngk-ost@abw-ang.de
END:VEVENT
END:VCALENDAR