BEGIN:VCALENDAR
VERSION:2.0
METHOD:PUBLISH
PRODID:-//Accessible Web Design//My Calendar//http://www.joedolson.com//v//EN';
BEGIN:VEVENT
UID:111074-60783
LOCATION:Eltern-Kind-Gruppe Falkenberg Karlstraße 17 a  Falkenberg   04895
SUMMARY:Musik mit Kleinkindern
DTSTAMP:20260623T100000
ORGANIZER;CN=elbe-elster:MAILTO:gesunde-kinder@lkee.de
DTSTART:20260623T100000
DTEND:20260623T113000
CATEGORIES:Elternwissen
URL;VALUE=URI:https://www.netzwerk-gesunde-kinder.de/termin/musik-mit-kleinkindern/?mc_id=111074
DESCRIPTION:Musik mit Kleinkindern fördert spielerisch Sprache, Motorik und soziale Kompetenz durch gemeinsames Singen, Tanzen und Instrumente-Erkunden. Einfache Lieder, Wiederholungen, Fingerspiele und Bewegungsspiele zu Musik im Grundschlag sind ideal. Wichtig sind Freude, Nachahmung und entspannte Atmosphäre. Referenten: Melanie BründelKosten: keineAnmeldeinformationen: Anmeldung bitte unter Netzwerk Gesunde Kinder, Doreen Neubert, Telefon: 03535/462637 oder gesunde-kinder@lkee.de bis spätestens 2 Tage&hellip;
END:VEVENT
END:VCALENDAR