BEGIN:VCALENDAR
VERSION:2.0
METHOD:PUBLISH
PRODID:-//Accessible Web Design//My Calendar//http://www.joedolson.com//v//EN';
BEGIN:VEVENT
UID:111060-60769
LOCATION:Café RegionalLiebe Angermünde   Angermünde  16278
SUMMARY:Schwangeren-Treff
DTSTAMP:20261118T110000
ORGANIZER;CN=uckermark-ost:MAILTO:ngk-ost@abw-ang.de
DTSTART:20261118T110000
DTEND:20261118T120000
CATEGORIES:Familien-Gruppen, -Treffs &amp; -Kurse
URL;VALUE=URI:https://www.netzwerk-gesunde-kinder.de/termin/schwangeren-treff-14/?mc_id=111060
DESCRIPTION:Du bist Schwanger und hast Lust auf Austausch in entspannter Runde? Dann komm vorbei. In der gemütlichen Atmosphäre des Cafés RegionalLiebe bieten wir dir einen Raum für alles, was dich gerade bewegt. Lerne andere werdende Mamas aus der Region kennen und teile deine Erfahrungen. Kosten: Für Netzwerkfamilien und die, die es werden wollen ist das&hellip;
END:VEVENT
END:VCALENDAR