BEGIN:VCALENDAR
VERSION:2.0
METHOD:PUBLISH
PRODID:-//Accessible Web Design//My Calendar//http://www.joedolson.com//v//EN';
BEGIN:VEVENT
UID:110609-60318
LOCATION:Online   Online
SUMMARY:Stillvorbereitung (online)
DTSTAMP:20260326T200000
ORGANIZER;CN=elbe-elster:MAILTO:gesunde-kinder@lkee.de
DTSTART:20260326T200000
DTEND:20260326T213000
CATEGORIES:Elternwissen
URL;VALUE=URI:https://www.netzwerk-gesunde-kinder.de/termin/stillvorbereitung-online/?mc_id=110609
DESCRIPTION:Rund um das Thema Stillen: Bedeutung des Stillens, Entwicklung der Brust und Milchbildung während Schwangerschaft und Geburt; Stillzeit nach der Geburt Referenten: Antje KornekKosten: keine Anmeldeinformationen: Anmeldung bitte unter Netzwerk Gesunde Kinder, Doreen Neubert, Telefon: 03535/462637 oder gesunde-kinder@lkee.de. Bitte eine Telefonnummer und eine Mail-Adresse angeben. Vielen Dank!
END:VEVENT
END:VCALENDAR