BEGIN:VCALENDAR
VERSION:2.0
METHOD:PUBLISH
PRODID:-//Accessible Web Design//My Calendar//http://www.joedolson.com//v//EN';
BEGIN:VEVENT
UID:110581-60290
LOCATION:RNGK- SPN Forst Berliner Straße 9  Forst  03149
SUMMARY:Familienfrühstück
DTSTAMP:20260423T100000
ORGANIZER;CN=spree-neisse:MAILTO:dorothe.zacharias@lausitzklinik.de
DTSTART:20260423T100000
DTEND:20260423T120000
CATEGORIES:Familien-Gruppen, -Treffs &amp; -Kurse
URL;VALUE=URI:https://www.netzwerk-gesunde-kinder.de/termin/familienfruehstueck-11/?mc_id=110581
DESCRIPTION:Damit Kinder gesund aufwachsen – unser Netzwerk an Ihrer Seite Frühstück für werdende Eltern &amp; Eltern mit ihren Babys Austausch, Informationen rund um Schwangerschaft, Geburt und die erste Zeit danach mit Fachleuten und anderen Eltern Kosten: Keine, jeder bringt eine Kleinigkeit mit. Anmeldeinformationen: Um Anmeldung wird gebeten!Weitere Informationen: Familienfrühstück in Forst 26.02.2026.pdf, Familienfrühstück in Forst&hellip;
END:VEVENT
END:VCALENDAR