BEGIN:VCALENDAR
VERSION:2.0
METHOD:PUBLISH
PRODID:-//Accessible Web Design//My Calendar//http://www.joedolson.com//v//EN';
BEGIN:VEVENT
UID:110551-60260
LOCATION:RNGK-SPN Berliner Straße 9  Forst   03149
SUMMARY:Familiencafé - für ALLE
DTSTAMP:20260513T100000
ORGANIZER;CN=spree-neisse:MAILTO:dorothe.zacharias@lausitzklinik.de
DTSTART:20260513T100000
DTEND:20260513T120000
CATEGORIES:Sonstige Veranstaltungen
URL;VALUE=URI:https://www.netzwerk-gesunde-kinder.de/termin/familiencafe-fuer-alle-6/?mc_id=110551
DESCRIPTION:Jeden Mittwochvormittag lädt das Regionalnetzwerk Gesunde Kinder Spree-Neiße interessierte Schwangere &amp; Familien herzlich ein. Gemeinsam lachen, spielen, sich austauschen, informieren und einen guten Vormittag haben. Kosten: keine KostenAnmeldeinformationen: Um Anmeldung wird gebeten!Weitere Informationen: Familiencafé für alle.pdf
END:VEVENT
END:VCALENDAR