BEGIN:VCALENDAR
VERSION:2.0
METHOD:PUBLISH
PRODID:-//Accessible Web Design//My Calendar//http://www.joedolson.com//v//EN';
BEGIN:VEVENT
UID:110438-60147
LOCATION:Netzwerktreff Prötzeler Chaussee 4a  Strausberg  15344
SUMMARY:Filz- und Mäh(r)werkstatt
DTSTAMP:20260508T153000
ORGANIZER;CN=maerkisch-oderland:MAILTO:birgit.triebel@drk-mos.de
DTSTART:20260508T153000
DTEND:20260508T170000
CATEGORIES:Elternwissen
URL;VALUE=URI:https://www.netzwerk-gesunde-kinder.de/termin/filz-und-maehrwerkstatt-4/?mc_id=110438
DESCRIPTION:In dem Kreativworkshop können sich Kleinkinder im Umgang mit unterschiedlichen Materialien erproben. Es wird beim Nassfilzen mit Wolle, Wasser und Seife gewerkelt und gematscht oder aber beim Arbeiten mit Ton geknetet und geformt. Unter der Begleitung von Annette Goldschmidt (Kunst- und Kreativtherapeutin für Kinder und Jugendliche in der Kita Rehkids) werdet ihr gemeinsam mit euren&hellip;
END:VEVENT
END:VCALENDAR