BEGIN:VCALENDAR
VERSION:2.0
METHOD:PUBLISH
PRODID:-//Accessible Web Design//My Calendar//http://www.joedolson.com//v//EN';
BEGIN:VEVENT
UID:110290-59999
LOCATION:AWO Kita "Diesterweg" Goethestraße 10  Lübbenau  03222
SUMMARY:VORMITTAG´s Spielkreis
DTSTAMP:20260930T090000
ORGANIZER;CN=oberspreewald-lausitz-nord:MAILTO:gesunde-kinder@awo-bb-sued.de
DTSTART:20260930T090000
DTEND:20260930T100000
CATEGORIES:Familien-Gruppen, -Treffs &amp; -Kurse
URL;VALUE=URI:https://www.netzwerk-gesunde-kinder.de/termin/vormittags-spielkreis-11/?mc_id=110290
DESCRIPTION:Ab März 2026 können sich Eltern aus Lübbenau und Umgebung am Vormittag in der AWO Kita Diesterweg treffen, Kontakte knüpfen und sich über die Babyzeit, Kindergesundheit und weitere Familienthemen austauschen. Des Weiteren haben Familien bereits vor dem eigentlichen Kita-Eintritt die Möglichkeit, ein wenig Kita-Luft zu schnuppern, die Räumlichkeiten kennenzulernen und Fragen zu stellen. So fällt&hellip;
END:VEVENT
END:VCALENDAR