BEGIN:VCALENDAR
VERSION:2.0
METHOD:PUBLISH
PRODID:-//Accessible Web Design//My Calendar//http://www.joedolson.com//v//EN';
BEGIN:VEVENT
UID:110278-59987
LOCATION:Familienzentrum Eisenhüttenstadt Fröbelring 1  Eisenhüttenstadt  15890
SUMMARY:Erste Hilfe im Kindernotfall
DTSTAMP:20260708T090000
ORGANIZER;CN=oder-spree:MAILTO:jenny.siebke@drk-mohs.de
DTSTART:20260708T090000
DTEND:20260708T110000
CATEGORIES:Elternwissen
URL;VALUE=URI:https://www.netzwerk-gesunde-kinder.de/termin/erste-hilfe-im-kindernotfall/?mc_id=110278
DESCRIPTION:Ein Kurs für Eltern mit Kindern bis 3 Jahren zu den wichtigsten 1. Hilfe Maßnahmen. Gesponsert durch die Sparkasse Oder- Spree Kosten: KostenfreiAnmeldeinformationen: Anmeldung unter: 0174- 2037282 oder anja.kess@drk-mohs.de
END:VEVENT
END:VCALENDAR