BEGIN:VCALENDAR
VERSION:2.0
METHOD:PUBLISH
PRODID:-//Accessible Web Design//My Calendar//http://www.joedolson.com//v//EN';
BEGIN:VEVENT
UID:110256-59965
LOCATION:Pommernmühle Ückermünde Liepgartener Straße 88 a  Ueckermünde  17373
SUMMARY:Babyschwimmen
DTSTAMP:20260505T143000
ORGANIZER;CN=uckermark-west:MAILTO:Peggy.Redlich-Pahl@sana-kt.de
DTSTART:20260505T143000
DTEND:20260505T153000
CATEGORIES:Elternwissen
URL;VALUE=URI:https://www.netzwerk-gesunde-kinder.de/termin/babyschwimmen/?mc_id=110256
DESCRIPTION:Babyschwimmen fördert die Gesundheit und Entwicklung. Wenn Ihr Baby drei Monate alt ist, ist das der perfekte Zeitpunkt um mit dem Babyschwimmen zu beginnen. Kosten: Unkostenbeitrag: 5,- €Anmeldeinformationen: Entbindungsstation Asklepios Pasewalk Tel.: 03973 23 14 47
END:VEVENT
END:VCALENDAR