BEGIN:VCALENDAR
VERSION:2.0
METHOD:PUBLISH
PRODID:-//Accessible Web Design//My Calendar//http://www.joedolson.com//v//EN';
BEGIN:VEVENT
UID:109922-59631
LOCATION:Mehrgenerationenhaus Schwedt Bahnhofstr. 11b  Schwedt/Oder  16303
SUMMARY:Frühstück gegen das Alleinsein
DTSTAMP:20260708T090000
ORGANIZER;CN=uckermark-ost:MAILTO:ngk-ost@abw-ang.de
DTSTART:20260708T090000
DTEND:20260708T110000
CATEGORIES:Familien-Gruppen, -Treffs &amp; -Kurse
URL;VALUE=URI:https://www.netzwerk-gesunde-kinder.de/termin/fruehstueck-gegen-das-alleinsein-3/?mc_id=109922
DESCRIPTION:Frühstück statt Alleinsein Gemeinsam frühstücken, ins Gespräch kommen und den Tag nicht allein beginnen. In entspannter Atmosphäre treffen sich Menschen jeden Alters, teilen Zeit, Gespräche und ein gutes Frühstück. Ein Angebot für alle, die Gemeinschaft suchen und sich austauschen möchten. Kosten: Preise: 10 € pro Person Anmeldeinformationen: Anmeldung unter: 03332/ 835040
END:VEVENT
END:VCALENDAR