BEGIN:VCALENDAR
VERSION:2.0
METHOD:PUBLISH
PRODID:-//Accessible Web Design//My Calendar//http://www.joedolson.com//v//EN';
BEGIN:VEVENT
UID:109749-59458
LOCATION:Netzwerk Gesunde Kinder Uckermark Ost /Standort Schwedt   Schwedt/ Oder  16303
SUMMARY:Gemeinsam im Netzwerk – für Familien und Ehrenamt
DTSTAMP:20260701T130000
ORGANIZER;CN=uckermark-ost:MAILTO:ngk-ost@abw-ang.de
DTSTART:20260701T130000
DTEND:20260701T150000
CATEGORIES:Sonstige Veranstaltungen
URL;VALUE=URI:https://www.netzwerk-gesunde-kinder.de/termin/gemeinsam-im-netzwerk-fuer-familien-und-ehrenamt-3/?mc_id=109749
DESCRIPTION:Du möchtest wissen, was das Netzwerk Gesunde Kinder macht? Ob als (werdende) Familie oder als jemand, der sich ehrenamtlich engagieren möchte – in unserer offenen Sprechzeit könnt ihr ganz unverbindlich vorbeischauen. Lerne unsere Räumlichkeiten kennen, komm mit uns ins Gespräch und erfahre mehr über unsere Angebote, Patenschaften und Möglichkeiten zur Mitwirkung. Es gibt keine festen&hellip;
END:VEVENT
END:VCALENDAR