BEGIN:VCALENDAR
VERSION:2.0
METHOD:PUBLISH
PRODID:-//Accessible Web Design//My Calendar//http://www.joedolson.com//v//EN';
BEGIN:VEVENT
UID:109592-59301
LOCATION:Familien- und Nachbarschaftstreff Kolkwitz Am Klinikum 30  Kolkwitz  03099
SUMMARY:Krabbelgruppe in Kolkwitz
DTSTAMP:20260428T093000
ORGANIZER;CN=spree-neisse:MAILTO:dorothe.zacharias@lausitzklinik.de
DTSTART:20260428T093000
DTEND:20260428T113000
CATEGORIES:Familien-Gruppen, -Treffs &amp; -Kurse
URL;VALUE=URI:https://www.netzwerk-gesunde-kinder.de/termin/krabbelgruppe-in-kolkwitz-17/?mc_id=109592
DESCRIPTION:Krabbelgruppe in Kolkwitz. Alle sind herzlich willkommen, zum Kennenlernen - einfach vorbeikommen. Kosten: keineAnmeldeinformationen: keineWeitere Informationen: Krabbelgruppe in Kolkwitz.pdf
END:VEVENT
END:VCALENDAR