BEGIN:VCALENDAR
VERSION:2.0
METHOD:PUBLISH
PRODID:-//Accessible Web Design//My Calendar//http://www.joedolson.com//v//EN';
BEGIN:VEVENT
UID:109552-59261
LOCATION:Klinik Oranienburg, MVZ, 1.OG, "Müttertreff" Robert-Koch-Str. 2-12  Oranienburg  16515
SUMMARY:Bedürfnis- und bindungsorientierte Begleitung
DTSTAMP:20260508T100000
ORGANIZER;CN=oberhavel:MAILTO:gesunde.kinder@oberhavel-kliniken.de
DTSTART:20260508T100000
DTEND:20260508T113000
CATEGORIES:Elternwissen
URL;VALUE=URI:https://www.netzwerk-gesunde-kinder.de/termin/beduerfnis-und-bindungsorientierte-begleitung/?mc_id=109552
DESCRIPTION:Thema: Bedürfnis- und bindungsorientierte Begleitung &amp; unterstützende Bewegungsabläufe Durchgeführt wird dieses Angebot von Lisa Wieruch, Baby Coach. www.nestwaerme-leben.de Infos zum Termin: "Bedürfnis- und bindungsorientierte Begleitung &amp; unterstützende Bewegungsabläufe" An diesem Vormittag sprechen wir über das Prinzip der bedürfnis- und bindungsorientierten Begleitung (Erziehung). Ich stelle euch diesen Weg der Kinderbegleitung vor und wie ihr dies in&hellip;
END:VEVENT
END:VCALENDAR