BEGIN:VCALENDAR
VERSION:2.0
METHOD:PUBLISH
PRODID:-//Accessible Web Design//My Calendar//http://www.joedolson.com//v//EN';
BEGIN:VEVENT
UID:109464-59173
LOCATION:Eltern-Kind-Zentrum Mitte (ehemals Nord) Paul-Feldner-Straße 6,  Frankfurt (Oder)  15230
SUMMARY:Beikoststartkurs
DTSTAMP:20260424T093000
ORGANIZER;CN=frankfurt-oder:MAILTO:k.koepke@caritas-brandenburg.de
DTSTART:20260424T093000
DTEND:20260424T113000
CATEGORIES:Elternwissen
URL;VALUE=URI:https://www.netzwerk-gesunde-kinder.de/termin/beikoststartkurs-2/?mc_id=109464
DESCRIPTION:Der B(r)eikoststart ist eine große Veränderung und spannende Zeit. So viele neue Eindrücke, Entwicklungen und Erfahrungen.. aber auch FRAGEN. Im zweitteiligen Kurs erhaltet ihr Theorie und Praxis einen Überblick zu vielen Themen: Wann, Wo , Was, Wieviel.. und was gar nicht... :) Kosten: KeineAnmeldeinformationen: erforderlich
END:VEVENT
END:VCALENDAR