BEGIN:VCALENDAR
VERSION:2.0
METHOD:PUBLISH
PRODID:-//Accessible Web Design//My Calendar//http://www.joedolson.com//v//EN';
BEGIN:VEVENT
UID:109432-59141
LOCATION:AWO Regine-Hildebrandt-Haus Thomas-Müntzer-Straße 11  Lübbenau/ Spreewald  03222
SUMMARY:Eltern-Kind-Café
DTSTAMP:20260507T153000
ORGANIZER;CN=oberspreewald-lausitz-nord:MAILTO:gesunde-kinder@awo-bb-sued.de
DTSTART:20260507T153000
DTEND:20260507T173000
CATEGORIES:Familien-Gruppen, -Treffs &amp; -Kurse
URL;VALUE=URI:https://www.netzwerk-gesunde-kinder.de/termin/eltern-kind-cafe-16/?mc_id=109432
DESCRIPTION:Jeden 1. Donnerstag im Monat findet unser Eltern-Kind-Café statt. So haben nun auch berufstätige Eltern die Möglichkeit, sich in gemütlicher Runde auszutauschen, während die Kinder miteinander spielen, lachen und Spaß haben. Gerne bieten wir auch verschiedene Themenschwerpunkte z.B. Ernährung, Kita-Alltag, Eltern-Fitness, Entwicklungsphasen der Kinder, Angebote für Kinder in der Region. Damit Kinder gesund aufwachsen –&hellip;
END:VEVENT
END:VCALENDAR