BEGIN:VCALENDAR
VERSION:2.0
METHOD:PUBLISH
PRODID:-//Accessible Web Design//My Calendar//http://www.joedolson.com//v//EN';
BEGIN:VEVENT
UID:109334-59043
LOCATION:Kita St. Paulinus   Lübben  15907
SUMMARY:Themenabend "Geschwisterbeziehungen"
DTSTAMP:20260616T160000
ORGANIZER;CN=dahme-spreewald:MAILTO:ngk-lds@awo-bb-sued.de
DTSTART:20260616T160000
DTEND:20260616T173000
CATEGORIES:Elternwissen
URL;VALUE=URI:https://www.netzwerk-gesunde-kinder.de/termin/themenabend-geschwisterbeziehungen/?mc_id=109334
DESCRIPTION:„Geschwister sind sowohl Vertraute als auch Rivalen. Ihre Gemeinschaft in Kindheit und Jugend ist nicht freiwillig gewählt, sondern eine Art Zwangsgemeinschaft mit vielen möglichen Schattierungen zwischen Nähe und Distanz, Ablehnung und Zuneigung, Rivalität und Solidarität. Ein Themenabend für Eltern rund um das Thema Geschwisterbeziehung.“ Mit Andrea Jung (Erziehungs- und Familienberatung Lübben - Diakonie) Referenten: Andrea&hellip;
END:VEVENT
END:VCALENDAR