BEGIN:VCALENDAR
VERSION:2.0
METHOD:PUBLISH
PRODID:-//Accessible Web Design//My Calendar//http://www.joedolson.com//v//EN';
BEGIN:VEVENT
UID:109333-59042
LOCATION:Mehrgenerationenhaus Märkisch Buchholz   Märkisch Buchholz  15748
SUMMARY:Erste-Hilfe-Maßnahmen am Säugling und Kleinkind
DTSTAMP:20260604T093000
ORGANIZER;CN=dahme-spreewald:MAILTO:ngk-lds@awo-bb-sued.de
DTSTART:20260604T093000
DTEND:20260604T123000
CATEGORIES:Elternwissen
URL;VALUE=URI:https://www.netzwerk-gesunde-kinder.de/termin/erste-hilfe-massnahmen-am-saeugling-und-kleinkind-3/?mc_id=109333
DESCRIPTION:Kinder wollen ihre Welt entdecken, dabei sind sie oft ungestüm und erfinderisch. Gefahren können sie noch nicht richtig einschätzen. Besonders Kleinkinder sind gefährdet und Unfälle passieren meistens zu Hause. Die Entdeckung und „Entschärfung“ von Gefahrenquellen ist dabei zentral. Wenn doch etwas passiert, ist es wichtig, die richtigen Maßnahmen einzuleiten. Ein speziell konzipierter Kinder-Notfall-Basiskurs kann helfen,&hellip;
END:VEVENT
END:VCALENDAR