BEGIN:VCALENDAR
VERSION:2.0
METHOD:PUBLISH
PRODID:-//Accessible Web Design//My Calendar//http://www.joedolson.com//v//EN';
BEGIN:VEVENT
UID:109287-58996
LOCATION:Online Online  Online
SUMMARY:Online Elterntreff „Elterntipps und Tricks direkt zum Mitnehmen“
DTSTAMP:20260630T193000
ORGANIZER;CN=dahme-spreewald:MAILTO:ngk-lds@awo-bb-sued.de
DTSTART:20260630T193000
DTEND:20260630T213000
CATEGORIES:Familien-Gruppen, -Treffs &amp; -Kurse
URL;VALUE=URI:https://www.netzwerk-gesunde-kinder.de/termin/online-elterntreff-elterntipps-und-tricks-direkt-zum-mitnehmen-7/?mc_id=109287
DESCRIPTION:„Jechuuuu Sommerferien! Große Erwartungen, Enttäuschungen und Wutanfälle verstehen“ Viele von uns sehnen sich nach entspannten Ferien! Aber oft ist es ganz anders: Kinder nutzen die Ferien, um den Stress des Alltags loszuwerden. Das zeigt sich dann in Wutausbrüchen, Schreien, Weinen oder scheinbar „unnötigen“ Zusammenbrüchen. Diese Momente helfen Kindern tatsächlich, sich wieder zu entspannen. Für uns&hellip;
END:VEVENT
END:VCALENDAR