BEGIN:VCALENDAR
VERSION:2.0
METHOD:PUBLISH
PRODID:-//Accessible Web Design//My Calendar//http://www.joedolson.com//v//EN';
BEGIN:VEVENT
UID:109166-58875
LOCATION:Klinik Gransee, Dachgeschoss Meseberger Weg 12-13  Gransee  16775
SUMMARY:Elternschule- Ein Geschwisterchen kommt
DTSTAMP:20260513T093000
ORGANIZER;CN=oberhavel:MAILTO:gesunde.kinder@oberhavel-kliniken.de
DTSTART:20260513T093000
DTEND:20260513T110000
CATEGORIES:Elternwissen
URL;VALUE=URI:https://www.netzwerk-gesunde-kinder.de/termin/elternschule-ein-geschwisterchen-kommt/?mc_id=109166
DESCRIPTION:Werdende Geschwister Begleiten - Ein Angebot für werdende Zweifacheltern Die Ankunft eines Babys ist nicht nur für Eltern, sondern auch für Geschwisterkinder ein aufregendes Ereignis. Die bevorstehende Geburt und das Einleben im Wochenbett als vergrößerte Familie lösen zahlreiche Gefühle aus. Es ist nicht nur Mamas grösser werdender Bauch, der eine andere Form annimmt. Das spüren&hellip;
END:VEVENT
END:VCALENDAR