BEGIN:VCALENDAR
VERSION:2.0
METHOD:PUBLISH
PRODID:-//Accessible Web Design//My Calendar//http://www.joedolson.com//v//EN';
BEGIN:VEVENT
UID:109159-58868
LOCATION:Eltern Kind Zentrum Fürstenwalde   Fürstenwalde/Spree  15517
SUMMARY:Schwangeren- und Familienfrühstück
DTSTAMP:20261127T093000
ORGANIZER;CN=oder-spree:MAILTO:jenny.siebke@drk-mohs.de
DTSTART:20261127T093000
DTEND:20261127T110000
CATEGORIES:Familien-Gruppen, -Treffs &amp; -Kurse
URL;VALUE=URI:https://www.netzwerk-gesunde-kinder.de/termin/schwangeren-und-familienfruehstueck-47/?mc_id=109159
DESCRIPTION:Wir laden alle Schwangeren und alle Eltern zu einem gemeinsamen Frühstück ein. Es erwarten euch leckere Brötchen, frischer Kaffee und ein reich gedeckter Tisch. Tauscht euch mit anderen Eltern und Schwangeren rund um Themen wie Geburt, Schwangerschaft, die ersten Entwicklungsschritte eures Babys oder sonstige Alltagsthemen aus. 1x im Monat wird auch eine Hebamme dabei sein.&hellip;
END:VEVENT
END:VCALENDAR