BEGIN:VCALENDAR
VERSION:2.0
METHOD:PUBLISH
PRODID:-//Accessible Web Design//My Calendar//http://www.joedolson.com//v//EN';
BEGIN:VEVENT
UID:109043-58752
LOCATION:Klinik Gransee Meseberger Weg 12-13  Gransee  16775
SUMMARY:Elternschule- realistische Erwartungen an die Elternschaft
DTSTAMP:20260617T093000
ORGANIZER;CN=oberhavel:MAILTO:gesunde.kinder@oberhavel-kliniken.de
DTSTART:20260617T093000
DTEND:20260617T110000
CATEGORIES:Elternwissen
URL;VALUE=URI:https://www.netzwerk-gesunde-kinder.de/termin/elternschule-realistische-erwartungen-an-die-elternschaft/?mc_id=109043
DESCRIPTION:Wie wird es werden mit dem Baby? Sind wir dann eine richtige Familie? Ist es wirklich so schön, wie im Film? Worauf kann und worauf muss ich mich vorbereiten? In lockerer Runde wollen wir ehrlich an das Thema herangehen. Es bleibt ausreichend Zeit für eure Fragen. Anmeldeinformationen: Anmeldung erforderlich bei: Mandy Schulz Tel: 0176 47615546&hellip;
END:VEVENT
END:VCALENDAR