BEGIN:VCALENDAR
VERSION:2.0
METHOD:PUBLISH
PRODID:-//Accessible Web Design//My Calendar//http://www.joedolson.com//v//EN';
BEGIN:VEVENT
UID:109036-58745
LOCATION:Klinik Oranienburg, MVZ, 1.OG, "Müttertreff" Robert-Koch-Str. 2-12  Oranienburg  16515
SUMMARY:Mutter/Vater - Kind - Kurs
DTSTAMP:20260424T100000
ORGANIZER;CN=oberhavel:MAILTO:gesunde.kinder@oberhavel-kliniken.de
DTSTART:20260424T100000
DTEND:20260424T113000
CATEGORIES:Familien-Gruppen, -Treffs &amp; -Kurse
URL;VALUE=URI:https://www.netzwerk-gesunde-kinder.de/termin/mutter-vater-kind-kurs-9/?mc_id=109036
DESCRIPTION:Der Kurs richtet sich an Netzwerkfamilien und bietet altersgerechte Spielangebote und Zeit für Erfahrungs- und Gedankenaustausch der Mütter/Väter untereinander. 8 fortlaufende Termine. Kursleitung: Sylvia Weder, Still- und Laktationsberaterin Der Kurs ist für Netzwerkfamilien kostenfrei. Eine Anmeldung ist erforderlich! Telefon: 03301 - 662037
END:VEVENT
END:VCALENDAR