BEGIN:VCALENDAR
VERSION:2.0
METHOD:PUBLISH
PRODID:-//Accessible Web Design//My Calendar//http://www.joedolson.com//v//EN';
BEGIN:VEVENT
UID:109022-58731
LOCATION:Eltern-Kind-Zentrum Schönefeld Schwalbenweg 5  Schönefeld  12529
SUMMARY:Themenabend "Eingewöhnung in die Kita"
DTSTAMP:20260602T183000
ORGANIZER;CN=dahme-spreewald:MAILTO:ngk-lds@awo-bb-sued.de
DTSTART:20260602T183000
DTEND:20260602T200000
CATEGORIES:Elternwissen
URL;VALUE=URI:https://www.netzwerk-gesunde-kinder.de/termin/themenabend-eingewoehnung-in-die-kita/?mc_id=109022
DESCRIPTION:Die Eltern sind weg, stattdessen überall fremde Menschen. Für Kinder bedeutet eine neue Kita Stress. Sanftes Eingewöhnen ist wichtig. Wie gelingt ein guter Start in den Kitaalltag. Wie können Kinder mit den Gefühlen in dieser Trennungssituation umgehen? Leitung: Julia Löchel (Kindheit e. V.) Referenten: Julia Loechel, Katharina RogalliKosten: kostenfreiAnmeldeinformationen: Um Anmeldung wird gebeten unter 0800-64546337&hellip;
END:VEVENT
END:VCALENDAR