BEGIN:VCALENDAR
VERSION:2.0
METHOD:PUBLISH
PRODID:-//Accessible Web Design//My Calendar//http://www.joedolson.com//v//EN';
BEGIN:VEVENT
UID:108989-58698
LOCATION:Begegnungs- und Weiterbildungszentrum Heegermühler Straße 19c  Eberswalde  16225
SUMMARY:Stammtisch
DTSTAMP:20260422T173000
ORGANIZER;CN=barnim-nord:MAILTO:netzwerkgesundekinder@klinikum-barnim.de
DTSTART:20260422T173000
DTEND:20260422T190000
CATEGORIES:Stammtisch für Familienpat/innen
URL;VALUE=URI:https://www.netzwerk-gesunde-kinder.de/termin/stammtisch-2/?mc_id=108989
DESCRIPTION:
END:VEVENT
END:VCALENDAR