BEGIN:VCALENDAR
VERSION:2.0
METHOD:PUBLISH
PRODID:-//Accessible Web Design//My Calendar//http://www.joedolson.com//v//EN';
BEGIN:VEVENT
UID:108772-58481
LOCATION:AWO Gemeinschaftsraum Märkische Zeile 13  Königs Wusterhausen  15711
SUMMARY:Themenabend "Emotionale Erste Hilfe bei Klein- und Kitakindern"
DTSTAMP:20260611T173000
ORGANIZER;CN=dahme-spreewald:MAILTO:ngk-lds@awo-bb-sued.de
DTSTART:20260611T173000
DTEND:20260611T190000
CATEGORIES:Elternwissen
URL;VALUE=URI:https://www.netzwerk-gesunde-kinder.de/termin/themenabend-emotionale-erste-hilfe-bei-klein-und-kitakindern/?mc_id=108772
DESCRIPTION:Wut, Trauer, Angst, Scham, Ekel, Erschöpfung und Müdigkeit...in vielen Situationen benötigen junge Kinder Hilfe und Begleitung im Umgang mit ihren Gefühlen. Wie können Eltern und andere Bezugspersonen die Bedürfnisse ihrer Kinder richtig interpretieren? Mit welchen Ideen und Methoden können Gefühle gut koreguliert werden. Durchgeführt von Stefanie Böhme (Frühe Hilfen Fachkraft der Erziehungs- und Familienberatung KW)&hellip;
END:VEVENT
END:VCALENDAR