BEGIN:VCALENDAR
VERSION:2.0
METHOD:PUBLISH
PRODID:-//Accessible Web Design//My Calendar//http://www.joedolson.com//v//EN';
BEGIN:VEVENT
UID:108699-58408
LOCATION:AWO Gemeinschaftsraum Märkische Zeile 13  Königs Wusterhausen  15711
SUMMARY:Themenvormittag "Dunstan-Babysprache
DTSTAMP:20260522T100000
ORGANIZER;CN=dahme-spreewald:MAILTO:ngk-lds@awo-bb-sued.de
DTSTART:20260522T100000
DTEND:20260522T120000
CATEGORIES:Elternwissen
URL;VALUE=URI:https://www.netzwerk-gesunde-kinder.de/termin/themenvormittag-dunstan-babysprache/?mc_id=108699
DESCRIPTION:Müdigkeit, Hunger, Unwohlsein... Mit der Dunstan Babysprache erkennen Eltern durch angeborene Reflexlaute, warum das Baby weint. Im Workshop werden die Grundlagen der Bedürfniskommunikation von jungen Babys erläutert, was auch zu einer stärkeren Eltern-Kind-Bindung führt. Kursleiterin Katrin Hildebrandt stellt den Eltern die Laute vor. Referenten: Katrin HildebrandtKosten: kostenfreiAnmeldeinformationen: Um Anmeldung wird unter der kostenfreien Telefonnummer 0800&hellip;
END:VEVENT
END:VCALENDAR