BEGIN:VCALENDAR
VERSION:2.0
METHOD:PUBLISH
PRODID:-//Accessible Web Design//My Calendar//http://www.joedolson.com//v//EN';
BEGIN:VEVENT
UID:108698-58407
LOCATION:Valetudo-Haus für Gesundheit, Familie und Bildung Friedrich-Engels-Straße 25  Königs Wusterhausen  15711
SUMMARY:Themennachmittag - Große Hilfe bei kleinen Wehwehchen Hausmittel für Babys und Kleinkinder
DTSTAMP:20261024T153000
ORGANIZER;CN=dahme-spreewald:MAILTO:ngk-lds@awo-bb-sued.de
DTSTART:20261024T153000
DTEND:20261024T173000
CATEGORIES:Elternwissen
URL;VALUE=URI:https://www.netzwerk-gesunde-kinder.de/termin/themennachmittag-grosse-hilfe-bei-kleinen-wehwehchen-hausmittel-fuer-babys-und-kleinkinder-3/?mc_id=108698
DESCRIPTION:Ein durchbrechender Zahn, Bauchweh, Kratzen im Hals, eine laufende Nase – altbewährte Hausmittel gibt es für jedes Wehwehchen. Sie kosten wenig, sind fast immer zu Hause vorrätig und helfen meist sogar besser als teure Medikamente. Der Themennachmittag verschafft Familien einen Überblick über hilfreiche Hausmittel und gibt Tipps und Tricks bei den gängigsten Wehwehchen. Referenten: Inga&hellip;
END:VEVENT
END:VCALENDAR